BEGIN:VCALENDAR
VERSION:2.0
PRODID:-//UROC - ECPv6.3.2//NONSGML v1.0//EN
CALSCALE:GREGORIAN
METHOD:PUBLISH
X-WR-CALNAME:UROC
X-ORIGINAL-URL:https://uroc.ca
X-WR-CALDESC:Events for UROC
REFRESH-INTERVAL;VALUE=DURATION:PT1H
X-Robots-Tag:noindex
X-PUBLISHED-TTL:PT1H
BEGIN:VTIMEZONE
TZID:America/Denver
BEGIN:DAYLIGHT
TZOFFSETFROM:-0700
TZOFFSETTO:-0600
TZNAME:MDT
DTSTART:20220313T090000
END:DAYLIGHT
BEGIN:STANDARD
TZOFFSETFROM:-0600
TZOFFSETTO:-0700
TZNAME:MST
DTSTART:20221106T080000
END:STANDARD
TZID:UTC
BEGIN:STANDARD
TZOFFSETFROM:+0000
TZOFFSETTO:+0000
TZNAME:UTC
DTSTART:20210101T000000
END:STANDARD
END:VTIMEZONE
BEGIN:VEVENT
DTSTART;TZID=America/Denver:20220507T183000
DTEND;TZID=America/Denver:20220507T220000
DTSTAMP:20260419T075759
CREATED:20220421T032749Z
LAST-MODIFIED:20220423T022133Z
UID:1143-1651948200-1651960800@uroc.ca
SUMMARY:UROC Short Film Festival and Social
DESCRIPTION:Winter is (slowly) receding…the animals are coming out of hibernation.. and so is UROC!!! Movie Night is coming back and we couldn’t be more thrilled!\n\n\n\nThis year we are going to be showing a collection of carefully curated short films that are guaranteed to get your mountain bike stoke going!\n\n\n\nAnd of course this is a Social\, members and invited guests welcome!  We can’t wait to talk to everyone about our plans\, goals and dreams for this year. There are new trails being built\, events being planned and many more group gatherings to ride\, build and celebrate our mountain biking community! Please don’t hesitate to get your UROC membership. Your support is what keeps us going strong.\nhttp://uroc.ca/memberships-swag/\n\n\nWe will have drinks (beer/wine/kombucha/pop/water and snacks for sale.\n\n\nAnd did I mention Draw Prizes???? We have so many wonderful sponsors stepping up to help us make this night as exciting as possible.\n\n\nMay 7\, 2022 at the Polish Hall (1406-82 Street)\, doors open at 6:30.
URL:https://uroc.ca/event/uroc-short-film-festival-and-social/
LOCATION:Polish Hall – Coleman – 1406-82 Street\, 1406-82 Street\, Coleman\, Alberta\, T0K 0M0\, Canada
ATTACH;FMTTYPE=image/png:https://uroc.ca/wp-content/uploads/2022/04/UROC-2022-Movie-1.png
END:VEVENT
BEGIN:VEVENT
DTSTART;TZID=America/Denver:20220224T190000
DTEND;TZID=America/Denver:20220224T210000
DTSTAMP:20260419T075759
CREATED:20220118T035446Z
LAST-MODIFIED:20220224T025720Z
UID:714-1645729200-1645736400@uroc.ca
SUMMARY:2022 UROC AGM
DESCRIPTION:Join us for the 2022 UROC AGM.  Find out about our plans for 2022.  Listen to our guest speaker\, Matt Hadley.  There will be a draw prizes from Pass Beer Co\, Crowsnest Coffee Company and UROC!  http://uroc.ca/agm2022registration/ \nTopic: 2022 UROC AGM\nTime: Feb 24\, 2022 07:00 PM Mountain Time (US and Canada) \nJoin Zoom Meeting\nhttps://us02web.zoom.us/j/87816608229 \nMeeting ID: 878 1660 8229\nPasscode: 739548 \nAlso\, if you are passionate about mountain biking and really want to be involved with UROC\, we will have three Board Memberships open.  This is your opportunity to target your volunteer efforts into helping UROC make the Crowsnest Pass a premier mountain biking destination.  If you are interested please fill out this form to let us know more about you! \n  \n  \n  \nZOOM Info For AGM: \nUnited Riders of Crowsnest Club is inviting you to a scheduled Zoom meeting. \nTopic: 2022 UROC AGM\nTime: Feb 24\, 2022 07:00 PM Mountain Time (US and Canada) \nJoin Zoom Meeting\nhttps://us02web.zoom.us/j/87816608229 \nMeeting ID: 878 1660 8229\nPasscode: 739548\nOne tap mobile\n+16473744685\,\,87816608229#\,\,\,\,*739548# Canada\n+16475580588\,\,87816608229#\,\,\,\,*739548# Canada \nDial by your location\n+1 647 374 4685 Canada\n+1 647 558 0588 Canada\n+1 778 907 2071 Canada\n+1 204 272 7920 Canada\n+1 438 809 7799 Canada\n+1 587 328 1099 Canada\nMeeting ID: 878 1660 8229\nPasscode: 739548\nFind your local number: https://us02web.zoom.us/u/kDa49KHHt \n  \n  \nhttp://uroc.ca/board-member-submission-2022/
URL:https://uroc.ca/event/uroc-agm-2022/
LOCATION:Zoom\, Canada
ATTACH;FMTTYPE=image/jpeg:https://uroc.ca/wp-content/uploads/2021/07/DSC07535-2.jpg
END:VEVENT
BEGIN:VEVENT
DTSTART;TZID=UTC:20210731T110000
DTEND;TZID=UTC:20210731T120000
DTSTAMP:20260419T075759
CREATED:20210727T084405Z
LAST-MODIFIED:20210727T084405Z
UID:235-1627729200-1627732800@uroc.ca
SUMMARY:Kid's Corner Bike Park - Official Opening.
DESCRIPTION:Kid’s Corner Bike Park – Official Opening.\nWell at last – 99.9% complete and time for the official opening of the Park on Saturday\, July 31 at 11 am. There will be a few short speeches followed by a walkabout/bike ride.\nAll welcome but particularly kids with bikes – bring a parent if you like. BBQ hosted by UROC to follow at 11:30 – first come\, first served on this one.\nLocation: lower end of the Pass Powderkeg ski hill road\, Blairmore.\nThis event is part of the Crowsnest Pass Doors Open-Heritage Festival.
URL:https://uroc.ca/event/kids-corner-bike-park-official-opening/
LOCATION:Pass Powderkeg
CATEGORIES:Family Event,Kid's Event,Social Event
ATTACH;FMTTYPE=image/jpeg:https://uroc.ca/wp-content/uploads/2021/07/Kids-Park-e1642047782794.jpg
END:VEVENT
BEGIN:VEVENT
DTSTART;TZID=UTC:20210727T183000
DTEND;TZID=UTC:20210727T203000
DTSTAMP:20260419T075759
CREATED:20210727T083932Z
LAST-MODIFIED:20210727T084026Z
UID:232-1627410600-1627417800@uroc.ca
SUMMARY:Ladies Group Ride
DESCRIPTION:Ladies Group Ride July 27\, 2021. Let’s meet at the PPK skills park at 6:30 pm. We can climb up to the top and check out all the work that has been done on Spare Change!
URL:https://uroc.ca/event/ladies-group-ride/
LOCATION:Pass Powderkeg
ATTACH;FMTTYPE=image/jpeg:https://uroc.ca/wp-content/uploads/2021/07/Ladies-Ride.jpg
END:VEVENT
END:VCALENDAR